BEGIN:VCALENDAR
VERSION:2.0
PRODID:-//SVP Stadlerberg //NONSGML Events //EN
CALSCALE:GREGORIAN
X-WR-CALNAME:SVP Stadlerberg
BEGIN:VEVENT
CREATED:20250325T062459Z
UID:2487
DTEND:20250510T160000
DTSTART:20250510T110000
DTSTAMP:20260422T155933Z
LOCATION:Stadel
DESCRIPTION:Frühlingsmarkt beim Löwenbrunnen in Stadel
SUMMARY:Frühlingsmarkt beim Löwenbrunnen in Stadel
ORGANIZER:
URL;VALUE=URI:https://www.svp-stadlerberg.ch/termine/bezirk-dielsdorf-stadel-svp-stand/
TRANSP:OPAQUE
END:VEVENT
END:VCALENDAR
